BEGIN:VCALENDAR
VERSION:2.0
PRODID:-//BumbleBee Foundation - ECPv6.15.20//NONSGML v1.0//EN
CALSCALE:GREGORIAN
METHOD:PUBLISH
X-WR-CALNAME:BumbleBee Foundation
X-ORIGINAL-URL:https://bumblebeefoundation.org
X-WR-CALDESC:Events for BumbleBee Foundation
REFRESH-INTERVAL;VALUE=DURATION:PT1H
X-Robots-Tag:noindex
X-PUBLISHED-TTL:PT1H
BEGIN:VTIMEZONE
TZID:America/Los_Angeles
BEGIN:DAYLIGHT
TZOFFSETFROM:-0800
TZOFFSETTO:-0700
TZNAME:PDT
DTSTART:20240310T100000
END:DAYLIGHT
BEGIN:STANDARD
TZOFFSETFROM:-0700
TZOFFSETTO:-0800
TZNAME:PST
DTSTART:20241103T090000
END:STANDARD
BEGIN:DAYLIGHT
TZOFFSETFROM:-0800
TZOFFSETTO:-0700
TZNAME:PDT
DTSTART:20250309T100000
END:DAYLIGHT
BEGIN:STANDARD
TZOFFSETFROM:-0700
TZOFFSETTO:-0800
TZNAME:PST
DTSTART:20251102T090000
END:STANDARD
BEGIN:DAYLIGHT
TZOFFSETFROM:-0800
TZOFFSETTO:-0700
TZNAME:PDT
DTSTART:20260308T100000
END:DAYLIGHT
BEGIN:STANDARD
TZOFFSETFROM:-0700
TZOFFSETTO:-0800
TZNAME:PST
DTSTART:20261101T090000
END:STANDARD
END:VTIMEZONE
BEGIN:VEVENT
DTSTART;TZID=America/Los_Angeles:20251005T180000
DTEND;TZID=America/Los_Angeles:20251005T210000
DTSTAMP:20260420T031416
CREATED:20250924T022153Z
LAST-MODIFIED:20250924T022321Z
UID:4422-1759687200-1759698000@bumblebeefoundation.org
SUMMARY:Charity Karoake
DESCRIPTION:Doors open at 5 pm\, show starts at 6 pm \nGet tickets here: https://wheremusicmeetsthesoul.com/events/charity-karaoke-sing-for-a-cause-agoura-hills/
URL:https://bumblebeefoundation.org/event/charity-karoake/
LOCATION:The Canyon – Agoura Hills\, 28912 Roadside Drive\, Agoura Hills\, CA\, 91301\, United States
END:VEVENT
END:VCALENDAR