BEGIN:VCALENDAR
VERSION:2.0
PRODID:-//BumbleBee Foundation - ECPv6.15.20//NONSGML v1.0//EN
CALSCALE:GREGORIAN
METHOD:PUBLISH
X-WR-CALNAME:BumbleBee Foundation
X-ORIGINAL-URL:https://bumblebeefoundation.org
X-WR-CALDESC:Events for BumbleBee Foundation
REFRESH-INTERVAL;VALUE=DURATION:PT1H
X-Robots-Tag:noindex
X-PUBLISHED-TTL:PT1H
BEGIN:VTIMEZONE
TZID:America/Boise
BEGIN:DAYLIGHT
TZOFFSETFROM:-0700
TZOFFSETTO:-0600
TZNAME:MDT
DTSTART:20240310T090000
END:DAYLIGHT
BEGIN:STANDARD
TZOFFSETFROM:-0600
TZOFFSETTO:-0700
TZNAME:MST
DTSTART:20241103T080000
END:STANDARD
BEGIN:DAYLIGHT
TZOFFSETFROM:-0700
TZOFFSETTO:-0600
TZNAME:MDT
DTSTART:20250309T090000
END:DAYLIGHT
BEGIN:STANDARD
TZOFFSETFROM:-0600
TZOFFSETTO:-0700
TZNAME:MST
DTSTART:20251102T080000
END:STANDARD
BEGIN:DAYLIGHT
TZOFFSETFROM:-0700
TZOFFSETTO:-0600
TZNAME:MDT
DTSTART:20260308T090000
END:DAYLIGHT
BEGIN:STANDARD
TZOFFSETFROM:-0600
TZOFFSETTO:-0700
TZNAME:MST
DTSTART:20261101T080000
END:STANDARD
END:VTIMEZONE
BEGIN:VEVENT
DTSTART;TZID=America/Boise:20251006T180000
DTEND;TZID=America/Boise:20251006T210000
DTSTAMP:20260419T213703
CREATED:20251001T163346Z
LAST-MODIFIED:20251001T163346Z
UID:4435-1759773600-1759784400@bumblebeefoundation.org
SUMMARY:Restaurant Fundraiser
DESCRIPTION:
URL:https://bumblebeefoundation.org/event/restaurant-fundraiser/
LOCATION:Rustic Oven Pizza\, 520 W Main St\, Middleton\, ID\, 83644\, United States
END:VEVENT
END:VCALENDAR