BEGIN:VCALENDAR
VERSION:2.0
PRODID:-//BumbleBee Foundation - ECPv6.15.20//NONSGML v1.0//EN
CALSCALE:GREGORIAN
METHOD:PUBLISH
X-WR-CALNAME:BumbleBee Foundation
X-ORIGINAL-URL:https://bumblebeefoundation.org
X-WR-CALDESC:Events for BumbleBee Foundation
REFRESH-INTERVAL;VALUE=DURATION:PT1H
X-Robots-Tag:noindex
X-PUBLISHED-TTL:PT1H
BEGIN:VTIMEZONE
TZID:America/Los_Angeles
BEGIN:DAYLIGHT
TZOFFSETFROM:-0800
TZOFFSETTO:-0700
TZNAME:PDT
DTSTART:20250309T100000
END:DAYLIGHT
BEGIN:STANDARD
TZOFFSETFROM:-0700
TZOFFSETTO:-0800
TZNAME:PST
DTSTART:20251102T090000
END:STANDARD
BEGIN:DAYLIGHT
TZOFFSETFROM:-0800
TZOFFSETTO:-0700
TZNAME:PDT
DTSTART:20260308T100000
END:DAYLIGHT
BEGIN:STANDARD
TZOFFSETFROM:-0700
TZOFFSETTO:-0800
TZNAME:PST
DTSTART:20261101T090000
END:STANDARD
BEGIN:DAYLIGHT
TZOFFSETFROM:-0800
TZOFFSETTO:-0700
TZNAME:PDT
DTSTART:20270314T100000
END:DAYLIGHT
BEGIN:STANDARD
TZOFFSETFROM:-0700
TZOFFSETTO:-0800
TZNAME:PST
DTSTART:20271107T090000
END:STANDARD
END:VTIMEZONE
BEGIN:VEVENT
DTSTART;TZID=America/Los_Angeles:20260427T160000
DTEND;TZID=America/Los_Angeles:20260427T210000
DTSTAMP:20260422T063916
CREATED:20260414T170339Z
LAST-MODIFIED:20260414T170339Z
UID:4760-1777305600-1777323600@bumblebeefoundation.org
SUMMARY:Restaurant Night at The Habit Burger & Grill
DESCRIPTION:Join us at the Habit Burger and Grill in support of NPHS BumbleBee Club \nMonday\, April 27 | 4-9 pm \nEnter code GIVEBACK when placing your order at the in-restaurant kiosk\, the Habit Burger & Grill Mobile app\, or habitburger.com. \nOr\, present this flyer to the cashier upon ordering. \n20% of net sales will benefit the BumbleBee Foundation.
URL:https://bumblebeefoundation.org/event/restaurant-night-at-the-habit-burger-grill/
LOCATION:Habit Burger & Grill\, 1025 Broadbeck Lane\, #1\, Newbury Park\, CA\, 91320\, United States
END:VEVENT
END:VCALENDAR