BEGIN:VCALENDAR
VERSION:2.0
PRODID:-//BumbleBee Foundation - ECPv6.15.20//NONSGML v1.0//EN
CALSCALE:GREGORIAN
METHOD:PUBLISH
X-ORIGINAL-URL:https://bumblebeefoundation.org
X-WR-CALDESC:Events for BumbleBee Foundation
REFRESH-INTERVAL;VALUE=DURATION:PT1H
X-Robots-Tag:noindex
X-PUBLISHED-TTL:PT1H
BEGIN:VTIMEZONE
TZID:America/Los_Angeles
BEGIN:DAYLIGHT
TZOFFSETFROM:-0800
TZOFFSETTO:-0700
TZNAME:PDT
DTSTART:20250309T100000
END:DAYLIGHT
BEGIN:STANDARD
TZOFFSETFROM:-0700
TZOFFSETTO:-0800
TZNAME:PST
DTSTART:20251102T090000
END:STANDARD
BEGIN:DAYLIGHT
TZOFFSETFROM:-0800
TZOFFSETTO:-0700
TZNAME:PDT
DTSTART:20260308T100000
END:DAYLIGHT
BEGIN:STANDARD
TZOFFSETFROM:-0700
TZOFFSETTO:-0800
TZNAME:PST
DTSTART:20261101T090000
END:STANDARD
BEGIN:DAYLIGHT
TZOFFSETFROM:-0800
TZOFFSETTO:-0700
TZNAME:PDT
DTSTART:20270314T100000
END:DAYLIGHT
BEGIN:STANDARD
TZOFFSETFROM:-0700
TZOFFSETTO:-0800
TZNAME:PST
DTSTART:20271107T090000
END:STANDARD
END:VTIMEZONE
BEGIN:VEVENT
DTSTART;TZID=America/Los_Angeles:20260226T080000
DTEND;TZID=America/Los_Angeles:20260226T170000
DTSTAMP:20260422T154814
CREATED:20260223T180905Z
LAST-MODIFIED:20260223T180956Z
UID:4705-1772092800-1772125200@bumblebeefoundation.org
SUMMARY:test event
DESCRIPTION:testing
URL:https://bumblebeefoundation.org/event/test-event/
LOCATION:Rustic Oven Pizza\, 520 W Main St\, Middleton\, ID\, 83644\, United States
END:VEVENT
BEGIN:VEVENT
DTSTART;TZID=America/Los_Angeles:20260321T170000
DTEND;TZID=America/Los_Angeles:20260321T190000
DTSTAMP:20260422T154814
CREATED:20260123T170104Z
LAST-MODIFIED:20260223T181610Z
UID:4562-1774112400-1774119600@bumblebeefoundation.org
SUMMARY:"Just Love" Fundraiser and Gala
DESCRIPTION:Just Love and Hope – A Western Fundraiser Featuring Award-Winning Country Band Fort Worth West & The Stain Dollz \nPurchase tickets here: bumblebeefoundationcom.ludus.com \n \n 
URL:https://bumblebeefoundation.org/event/just-love-fundraiser-and-gala/
LOCATION:Stagecoach Inn\, 51 S. Ventu Park Road\, Newbury Park\, CA\, 91320\, United States
END:VEVENT
BEGIN:VEVENT
DTSTART;TZID=America/Los_Angeles:20260414T080000
DTEND;TZID=America/Los_Angeles:20260414T170000
DTSTAMP:20260422T154814
CREATED:20260414T165046Z
LAST-MODIFIED:20260414T165518Z
UID:4755-1776153600-1776186000@bumblebeefoundation.org
SUMMARY:Childhood Matters 5th Annual Mental Health Community Playdate
DESCRIPTION:Join us for the Childhood Matters 5th Annual Mental Health Community Playdate: Zones of Wellness — a free\, family-friendly community event happening Saturday\, April 25 from 11am–2pm at Conejo Creek North Park in Thousand Oaks. \nThis special day brings together local families and organizations to celebrate connection\, emotional wellbeing\, and community support. Enjoy a wellness bazaar\, community resources\, silent auction\, and fun activities for kids and families throughout the park. \nBe sure to stop by the BumbleBee Foundation booth and create some artwork with us. We’d love to see you there and share a little creativity together! \nCome spend the afternoon exploring\, connecting\, and celebrating the importance of childhood mental health — because childhood matters 💛
URL:https://bumblebeefoundation.org/event/childhood-matters-5th-annual-mental-health-community-playdate/
LOCATION:Conejo Creek North Park\, 1379 E Janss Rd\,\, Thousand Oaks\, CA\, 91362\, United States
END:VEVENT
BEGIN:VEVENT
DTSTART;TZID=America/Los_Angeles:20260424T173000
DTEND;TZID=America/Los_Angeles:20260424T220000
DTSTAMP:20260422T154814
CREATED:20260414T163619Z
LAST-MODIFIED:20260414T163619Z
UID:4743-1777051800-1777068000@bumblebeefoundation.org
SUMMARY:Westlake Women's Club Annual Spring Gala
DESCRIPTION:Join us for an unforgettable evening at the WWC Spring Gala. Your General Admission ticket includes a beautifully prepared sit-down dinner\, live music\, and dancing in an elegant setting. Enjoy bidding on exciting items in our silent auction\, take part in special giveaways\, and celebrate alongside fellow members and guests. \nIt promises to be a night filled with fun\, entertainment\, connection\, and community spirit. Formal evening attire is requested as we gather for an extraordinary celebration you will not want to miss. \nTickets available at: https://www.westlakewomensclub.com/events/spring-gala-2026
URL:https://bumblebeefoundation.org/event/westlake-womens-club-annual-spring-gala/
LOCATION:Hyatt Regency Westlake\, 880 S. Westlake Blvd.\, Westlake Village\, CA\, 91361\, United States
END:VEVENT
BEGIN:VEVENT
DTSTART;TZID=America/Los_Angeles:20260427T160000
DTEND;TZID=America/Los_Angeles:20260427T210000
DTSTAMP:20260422T154814
CREATED:20260414T170339Z
LAST-MODIFIED:20260414T170339Z
UID:4760-1777305600-1777323600@bumblebeefoundation.org
SUMMARY:Restaurant Night at The Habit Burger & Grill
DESCRIPTION:Join us at the Habit Burger and Grill in support of NPHS BumbleBee Club \nMonday\, April 27 | 4-9 pm \nEnter code GIVEBACK when placing your order at the in-restaurant kiosk\, the Habit Burger & Grill Mobile app\, or habitburger.com. \nOr\, present this flyer to the cashier upon ordering. \n20% of net sales will benefit the BumbleBee Foundation.
URL:https://bumblebeefoundation.org/event/restaurant-night-at-the-habit-burger-grill/
LOCATION:Habit Burger & Grill\, 1025 Broadbeck Lane\, #1\, Newbury Park\, CA\, 91320\, United States
END:VEVENT
BEGIN:VEVENT
DTSTART;TZID=America/Los_Angeles:20260502T163000
DTEND;TZID=America/Los_Angeles:20260502T183000
DTSTAMP:20260422T154814
CREATED:20260414T164353Z
LAST-MODIFIED:20260414T164353Z
UID:4751-1777739400-1777746600@bumblebeefoundation.org
SUMMARY:Kendra Scott Gives Back
DESCRIPTION:Join us for a special Kendra Gives Back shopping event in support of the BumbleBee Foundation! 💛 \nSaturday\, May 2\, 2026 | 4:30–6:30 PMWestfield Topanga Mall \nIt’s the perfect chance to pick out something meaningful for Mother’s Day while giving back at the same time. During the event\, 20% of all purchases will be donated directly to the BumbleBee Foundation to help support families navigating a child’s cancer diagnosis across California and Idaho. \nBring a friend\, shop for a great cause\, and help us turn a thoughtful gift into real support for families who need it most. We’d love to see you there! 🐝✨ \nCan’t make it in-store? Shop online and use code: GIVEBACK-LELZN at checkout. Code valid 5/2 – 5/4.
URL:https://bumblebeefoundation.org/event/kendra-scott-gives-back-2/
LOCATION:Westfield Topanga Mall\, 6600 Topanga Canyon Blvd\, Canoga Park\, CA\, 91303\, United States
END:VEVENT
BEGIN:VEVENT
DTSTART;VALUE=DATE:20260615
DTEND;VALUE=DATE:20260616
DTSTAMP:20260422T154814
CREATED:20260414T204824Z
LAST-MODIFIED:20260414T204824Z
UID:4766-1781481600-1781567999@bumblebeefoundation.org
SUMMARY:6th Annual BumbleBee Golf Tournament
DESCRIPTION:6th Annual Golf Tournament Proudly Sponsored by Total Environment Management\, Inc.\nJune 15\, 2026 @ Wood Ranch Golf Club\, Simi Valley \nJoin us for the 6th Annual BumbleBee Foundation Charity Golf Tournament\, a day of golf\, community\, and purpose in support of families navigating a child’s cancer diagnosis. This fun-filled event includes 18 holes of golf\, on-course games and activities\, raffle prizes\, and an awards dinner\, all while raising critical funds for our Patient Aid Program\, which helps families cover essential expenses like housing\, groceries\, utilities\, and transportation to treatment. \nWhether you’re playing\, sponsoring\, or volunteering\, your participation makes a meaningful difference. Come out for a great day on the course and help us bring practical relief and hope to the families we serve. ⛳💛🐝
URL:https://bumblebeefoundation.org/event/6th-annual-bumblebee-golf-tournament/
LOCATION:Wood Ranch Golf Club\, 301 N Wood Ranch Pkwy\, Simi Valley\, CA\, 93065\, United States
END:VEVENT
BEGIN:VEVENT
DTSTART;VALUE=DATE:20260921
DTEND;VALUE=DATE:20260922
DTSTAMP:20260422T154814
CREATED:20260414T210108Z
LAST-MODIFIED:20260414T210108Z
UID:4771-1789948800-1790035199@bumblebeefoundation.org
SUMMARY:Inaugural BumbleBee Idaho Golf Tournament
DESCRIPTION:Join us for the Inaugural BumbleBee Foundation Charity Golf Tournament in Idaho\, a special day on the course bringing the community together to support Idaho families navigating a child’s cancer diagnosis. The event will feature 18 holes of golf\, on-course activities\, raffle prizes\, and an awards gathering\, all helping raise critical funds for our Patient Aid Program. \nFunds raised stay local and provide practical support like help with housing\, groceries\, utilities\, and transportation to treatment\, so parents can focus on their child’s care. Whether you’re playing\, sponsoring\, or simply supporting the event\, you’re helping us expand our impact for families across Idaho. ⛳💛🐝 \n2026_BBFGOLF_Reg_Flyer copy
URL:https://bumblebeefoundation.org/event/inaugural-bumblebee-idaho-golf-tournament/
LOCATION:Eagle Hills Golf Course\, 605 N Edgewood Ln.\, Eagle\, ID\, 83616\, United States
END:VEVENT
END:VCALENDAR