BEGIN:VCALENDAR
VERSION:2.0
PRODID:-//BumbleBee Foundation - ECPv6.15.20//NONSGML v1.0//EN
CALSCALE:GREGORIAN
METHOD:PUBLISH
X-WR-CALNAME:BumbleBee Foundation
X-ORIGINAL-URL:https://bumblebeefoundation.org
X-WR-CALDESC:Events for BumbleBee Foundation
REFRESH-INTERVAL;VALUE=DURATION:PT1H
X-Robots-Tag:noindex
X-PUBLISHED-TTL:PT1H
BEGIN:VTIMEZONE
TZID:America/Los_Angeles
BEGIN:DAYLIGHT
TZOFFSETFROM:-0800
TZOFFSETTO:-0700
TZNAME:PDT
DTSTART:20240310T100000
END:DAYLIGHT
BEGIN:STANDARD
TZOFFSETFROM:-0700
TZOFFSETTO:-0800
TZNAME:PST
DTSTART:20241103T090000
END:STANDARD
BEGIN:DAYLIGHT
TZOFFSETFROM:-0800
TZOFFSETTO:-0700
TZNAME:PDT
DTSTART:20250309T100000
END:DAYLIGHT
BEGIN:STANDARD
TZOFFSETFROM:-0700
TZOFFSETTO:-0800
TZNAME:PST
DTSTART:20251102T090000
END:STANDARD
BEGIN:DAYLIGHT
TZOFFSETFROM:-0800
TZOFFSETTO:-0700
TZNAME:PDT
DTSTART:20260308T100000
END:DAYLIGHT
BEGIN:STANDARD
TZOFFSETFROM:-0700
TZOFFSETTO:-0800
TZNAME:PST
DTSTART:20261101T090000
END:STANDARD
END:VTIMEZONE
BEGIN:VEVENT
DTSTART;TZID=America/Los_Angeles:20250919T170000
DTEND;TZID=America/Los_Angeles:20250919T190000
DTSTAMP:20260419T213624
CREATED:20250915T222756Z
LAST-MODIFIED:20250915T222756Z
UID:4409-1758301200-1758308400@bumblebeefoundation.org
SUMMARY:Kendra Scott Gives Back
DESCRIPTION:20% of sales benefit BumbleBee Foundation
URL:https://bumblebeefoundation.org/event/kendra-scott-gives-back/
LOCATION:Westfield Topanga Mall\, 6600 Topanga Canyon Blvd\, Canoga Park\, CA\, 91303\, United States
END:VEVENT
END:VCALENDAR